BEGIN:VCALENDAR
VERSION:2.0
PRODID:-//Gereformeerde Kerken Nederland - ECPv6.1.3//NONSGML v1.0//EN
CALSCALE:GREGORIAN
METHOD:PUBLISH
X-WR-CALNAME:Gereformeerde Kerken Nederland
X-ORIGINAL-URL:https://www.gereformeerdekerkennederland.nl
X-WR-CALDESC:Evenementen voor Gereformeerde Kerken Nederland
REFRESH-INTERVAL;VALUE=DURATION:PT1H
X-Robots-Tag:noindex
X-PUBLISHED-TTL:PT1H
BEGIN:VTIMEZONE
TZID:Europe/Amsterdam
BEGIN:DAYLIGHT
TZOFFSETFROM:+0100
TZOFFSETTO:+0200
TZNAME:CEST
DTSTART:20100328T010000
END:DAYLIGHT
BEGIN:STANDARD
TZOFFSETFROM:+0200
TZOFFSETTO:+0100
TZNAME:CET
DTSTART:20101031T010000
END:STANDARD
BEGIN:DAYLIGHT
TZOFFSETFROM:+0100
TZOFFSETTO:+0200
TZNAME:CEST
DTSTART:20110327T010000
END:DAYLIGHT
BEGIN:STANDARD
TZOFFSETFROM:+0200
TZOFFSETTO:+0100
TZNAME:CET
DTSTART:20111030T010000
END:STANDARD
END:VTIMEZONE
BEGIN:VEVENT
DTSTART;TZID=Europe/Amsterdam:20110513T194500
DTEND;TZID=Europe/Amsterdam:20110513T194500
DTSTAMP:20260423T001507
CREATED:20161006T110243Z
LAST-MODIFIED:20161006T124016Z
UID:712-1305315900-1305315900@www.gereformeerdekerkennederland.nl
SUMMARY:Vergadering kerkverband
DESCRIPTION:
URL:https://www.gereformeerdekerkennederland.nl/event/vergadering-kerkverband-3/
CATEGORIES:Vergadering
END:VEVENT
BEGIN:VEVENT
DTSTART;TZID=Europe/Amsterdam:20110408T194500
DTEND;TZID=Europe/Amsterdam:20110408T230000
DTSTAMP:20260423T001507
CREATED:20161006T110336Z
LAST-MODIFIED:20161006T124021Z
UID:716-1302291900-1302303600@www.gereformeerdekerkennederland.nl
SUMMARY:Vergadering diakenen GKN
DESCRIPTION:
URL:https://www.gereformeerdekerkennederland.nl/event/vergadering-diakenen-gkn/
CATEGORIES:Vergadering
END:VEVENT
BEGIN:VEVENT
DTSTART;TZID=Europe/Amsterdam:20110225T194500
DTEND;TZID=Europe/Amsterdam:20110225T194500
DTSTAMP:20260423T001507
CREATED:20161006T110424Z
LAST-MODIFIED:20161006T124027Z
UID:720-1298663100-1298663100@www.gereformeerdekerkennederland.nl
SUMMARY:Vergadering kerkverband
DESCRIPTION:
URL:https://www.gereformeerdekerkennederland.nl/event/vergadering-kerkverband-4/
CATEGORIES:Vergadering
END:VEVENT
BEGIN:VEVENT
DTSTART;TZID=Europe/Amsterdam:20110128T194500
DTEND;TZID=Europe/Amsterdam:20110128T230000
DTSTAMP:20260423T001507
CREATED:20161006T110527Z
LAST-MODIFIED:20161006T110527Z
UID:722-1296243900-1296255600@www.gereformeerdekerkennederland.nl
SUMMARY:Vergadering kerkverband
DESCRIPTION:Samenroepende kerk is de kerk te Zwolle.\nLocatie: Geref. Kerk Kampen (Ichthus). \nStukken voor deze vergadering kunnen worden gezonden naar de scriba van de adresvoerende kerk (Kampen): br. J.A. de Wit\, Rietkamp 5\, 8266 KE te Kampen\, of via email: scriba@gereformeerdekerkkampenichthus.nl
URL:https://www.gereformeerdekerkennederland.nl/event/vergadering-kerkverband-5/
END:VEVENT
BEGIN:VEVENT
DTSTART;TZID=Europe/Amsterdam:20101217T193000
DTEND;TZID=Europe/Amsterdam:20101217T193000
DTSTAMP:20260423T001507
CREATED:20161006T110619Z
LAST-MODIFIED:20161006T110619Z
UID:726-1292614200-1292614200@www.gereformeerdekerkennederland.nl
SUMMARY:Vergadering kerkverband
DESCRIPTION:Samenroepende kerk is de kerk te Zwolle.\nLocatie: Geref. Kerk Kampen (Ichthus). \nStukken voor deze vergadering kunnen worden gezonden naar de scriba van de adresvoerende kerk (Kampen): br. J.A. de Wit\, Rietkamp 5\, 8266 KE te Kampen\, of via email: scriba@gereformeerdekerkkampenichthus.nl
URL:https://www.gereformeerdekerkennederland.nl/event/vergadering-kerkverband-6/
END:VEVENT
END:VCALENDAR