BEGIN:VCALENDAR
VERSION:2.0
PRODID:-//Gereformeerde Kerken Nederland - ECPv6.1.3//NONSGML v1.0//EN
CALSCALE:GREGORIAN
METHOD:PUBLISH
X-WR-CALNAME:Gereformeerde Kerken Nederland
X-ORIGINAL-URL:https://www.gereformeerdekerkennederland.nl
X-WR-CALDESC:Evenementen voor Gereformeerde Kerken Nederland
REFRESH-INTERVAL;VALUE=DURATION:PT1H
X-Robots-Tag:noindex
X-PUBLISHED-TTL:PT1H
BEGIN:VTIMEZONE
TZID:Europe/Amsterdam
BEGIN:DAYLIGHT
TZOFFSETFROM:+0100
TZOFFSETTO:+0200
TZNAME:CEST
DTSTART:20190331T010000
END:DAYLIGHT
BEGIN:STANDARD
TZOFFSETFROM:+0200
TZOFFSETTO:+0100
TZNAME:CET
DTSTART:20191027T010000
END:STANDARD
BEGIN:DAYLIGHT
TZOFFSETFROM:+0100
TZOFFSETTO:+0200
TZNAME:CEST
DTSTART:20200329T010000
END:DAYLIGHT
BEGIN:STANDARD
TZOFFSETFROM:+0200
TZOFFSETTO:+0100
TZNAME:CET
DTSTART:20201025T010000
END:STANDARD
BEGIN:DAYLIGHT
TZOFFSETFROM:+0100
TZOFFSETTO:+0200
TZNAME:CEST
DTSTART:20210328T010000
END:DAYLIGHT
BEGIN:STANDARD
TZOFFSETFROM:+0200
TZOFFSETTO:+0100
TZNAME:CET
DTSTART:20211031T010000
END:STANDARD
BEGIN:DAYLIGHT
TZOFFSETFROM:+0100
TZOFFSETTO:+0200
TZNAME:CEST
DTSTART:20220327T010000
END:DAYLIGHT
BEGIN:STANDARD
TZOFFSETFROM:+0200
TZOFFSETTO:+0100
TZNAME:CET
DTSTART:20221030T010000
END:STANDARD
BEGIN:DAYLIGHT
TZOFFSETFROM:+0100
TZOFFSETTO:+0200
TZNAME:CEST
DTSTART:20230326T010000
END:DAYLIGHT
BEGIN:STANDARD
TZOFFSETFROM:+0200
TZOFFSETTO:+0100
TZNAME:CET
DTSTART:20231029T010000
END:STANDARD
END:VTIMEZONE
BEGIN:VEVENT
DTSTART;TZID=Europe/Amsterdam:20231005T000000
DTEND;TZID=Europe/Amsterdam:20231005T000000
DTSTAMP:20260423T001405
CREATED:20230824T110511Z
LAST-MODIFIED:20230824T110511Z
UID:155321-1696464000-1696464000@www.gereformeerdekerkennederland.nl
SUMMARY:Vergadering Classis Zuid
DESCRIPTION:
URL:https://www.gereformeerdekerkennederland.nl/event/vergadering-classis-zuid-3/
END:VEVENT
BEGIN:VEVENT
DTSTART;TZID=Europe/Amsterdam:20230930T080000
DTEND;TZID=Europe/Amsterdam:20230930T170000
DTSTAMP:20260423T001405
CREATED:20230526T124206Z
LAST-MODIFIED:20230526T124206Z
UID:155306-1696060800-1696093200@www.gereformeerdekerkennederland.nl
SUMMARY:openingsdag AvGT
DESCRIPTION:
URL:https://www.gereformeerdekerkennederland.nl/event/openingsdag-avgt/
END:VEVENT
BEGIN:VEVENT
DTSTART;VALUE=DATE:20230608
DTEND;VALUE=DATE:20230609
DTSTAMP:20260423T001405
CREATED:20230526T124047Z
LAST-MODIFIED:20230526T124047Z
UID:155304-1686182400-1686268799@www.gereformeerdekerkennederland.nl
SUMMARY:Classis Noord
DESCRIPTION:
URL:https://www.gereformeerdekerkennederland.nl/event/classis-noord/
END:VEVENT
BEGIN:VEVENT
DTSTART;VALUE=DATE:20230601
DTEND;VALUE=DATE:20230602
DTSTAMP:20260423T001405
CREATED:20230526T124013Z
LAST-MODIFIED:20230526T124013Z
UID:155302-1685577600-1685663999@www.gereformeerdekerkennederland.nl
SUMMARY:Classis Zuid
DESCRIPTION:
URL:https://www.gereformeerdekerkennederland.nl/event/classis-zuid-2/
LOCATION:Aula Oud Leusden\, Vlooswijkseweg 2\, Leusden\, 3832 RG\, Nederland
END:VEVENT
BEGIN:VEVENT
DTSTART;VALUE=DATE:20230202
DTEND;VALUE=DATE:20230203
DTSTAMP:20260423T001405
CREATED:20221103T134805Z
LAST-MODIFIED:20221103T134805Z
UID:155272-1675296000-1675382399@www.gereformeerdekerkennederland.nl
SUMMARY:Classis Zuid
DESCRIPTION:
URL:https://www.gereformeerdekerkennederland.nl/event/classis-zuid/
END:VEVENT
BEGIN:VEVENT
DTSTART;VALUE=DATE:20230101
DTEND;VALUE=DATE:20230102
DTSTAMP:20260423T001405
CREATED:20221103T135403Z
LAST-MODIFIED:20221103T135403Z
UID:155280-1672531200-1672617599@www.gereformeerdekerkennederland.nl
SUMMARY:Nieuwjaarsdag
DESCRIPTION:
URL:https://www.gereformeerdekerkennederland.nl/event/nieuwjaarsdag-3/
END:VEVENT
BEGIN:VEVENT
DTSTART;VALUE=DATE:20221231
DTEND;VALUE=DATE:20230101
DTSTAMP:20260423T001405
CREATED:20221103T135347Z
LAST-MODIFIED:20221103T135347Z
UID:155278-1672444800-1672531199@www.gereformeerdekerkennederland.nl
SUMMARY:Oudjaarsdag
DESCRIPTION:
URL:https://www.gereformeerdekerkennederland.nl/event/oudjaarsdag-3/
END:VEVENT
BEGIN:VEVENT
DTSTART;VALUE=DATE:20221226
DTEND;VALUE=DATE:20221227
DTSTAMP:20260423T001405
CREATED:20221103T135327Z
LAST-MODIFIED:20221103T135327Z
UID:155276-1672012800-1672099199@www.gereformeerdekerkennederland.nl
SUMMARY:2de kerstdag
DESCRIPTION:
URL:https://www.gereformeerdekerkennederland.nl/event/2de-kerstdag-2/
END:VEVENT
BEGIN:VEVENT
DTSTART;VALUE=DATE:20221225
DTEND;VALUE=DATE:20221226
DTSTAMP:20260423T001405
CREATED:20221103T135308Z
LAST-MODIFIED:20221103T135308Z
UID:155274-1671926400-1672012799@www.gereformeerdekerkennederland.nl
SUMMARY:1ste kerstdag
DESCRIPTION:
URL:https://www.gereformeerdekerkennederland.nl/event/1ste-kerstdag/
END:VEVENT
BEGIN:VEVENT
DTSTART;VALUE=DATE:20221022
DTEND;VALUE=DATE:20221023
DTSTAMP:20260423T001405
CREATED:20220715T053112Z
LAST-MODIFIED:20220715T053112Z
UID:155258-1666396800-1666483199@www.gereformeerdekerkennederland.nl
SUMMARY:Conferentie voor ambtsdragers DGK\, GKN en HGK
DESCRIPTION:
URL:https://www.gereformeerdekerkennederland.nl/event/conferentie-voor-ambtsdragers-dgk-gkn-en-hgk/
CATEGORIES:Vergadering
END:VEVENT
BEGIN:VEVENT
DTSTART;TZID=Europe/Amsterdam:20220609T000000
DTEND;TZID=Europe/Amsterdam:20220609T000000
DTSTAMP:20260423T001405
CREATED:20220506T092142Z
LAST-MODIFIED:20220506T092311Z
UID:155234-1654732800-1654732800@www.gereformeerdekerkennederland.nl
SUMMARY:Vergadering Classis Noord
DESCRIPTION:
URL:https://www.gereformeerdekerkennederland.nl/event/vergadering-classis-zuid-2/
CATEGORIES:Vergadering
END:VEVENT
BEGIN:VEVENT
DTSTART;TZID=Europe/Amsterdam:20220602T080000
DTEND;TZID=Europe/Amsterdam:20220602T170000
DTSTAMP:20260423T001405
CREATED:20220304T070336Z
LAST-MODIFIED:20220304T070336Z
UID:155230-1654156800-1654189200@www.gereformeerdekerkennederland.nl
SUMMARY:Vergadering Classis Zuid
DESCRIPTION:
URL:https://www.gereformeerdekerkennederland.nl/event/vergadering-classis-zuid/
CATEGORIES:Vergadering
END:VEVENT
BEGIN:VEVENT
DTSTART;TZID=Europe/Amsterdam:20220217T193000
DTEND;TZID=Europe/Amsterdam:20220217T213000
DTSTAMP:20260423T001405
CREATED:20220126T093903Z
LAST-MODIFIED:20220126T093903Z
UID:155212-1645126200-1645133400@www.gereformeerdekerkennederland.nl
SUMMARY:Vergadering classis Noord te Hardenberg
DESCRIPTION:
URL:https://www.gereformeerdekerkennederland.nl/event/vergadering-classis-noord-te-hardenberg/
CATEGORIES:Vergadering
END:VEVENT
BEGIN:VEVENT
DTSTART;TZID=Europe/Amsterdam:20220203T200000
DTEND;TZID=Europe/Amsterdam:20220203T220000
DTSTAMP:20260423T001405
CREATED:20220126T093821Z
LAST-MODIFIED:20220126T093922Z
UID:155210-1643918400-1643925600@www.gereformeerdekerkennederland.nl
SUMMARY:Vergadering classis Zuid te Oud Leusden
DESCRIPTION:
URL:https://www.gereformeerdekerkennederland.nl/event/vergadering-classis-zuid-te-oud-leusden/
CATEGORIES:Vergadering
END:VEVENT
BEGIN:VEVENT
DTSTART;TZID=Europe/Amsterdam:20220122T100000
DTEND;TZID=Europe/Amsterdam:20220122T170000
DTSTAMP:20260423T001405
CREATED:20211213T064657Z
LAST-MODIFIED:20211213T064657Z
UID:155203-1642845600-1642870800@www.gereformeerdekerkennederland.nl
SUMMARY:peremptoir examen van kandidaat R. Douma
DESCRIPTION:In verband met het peremptoir examen van kandidaat R. Douma wordt er in Enschede op zaterdag 22 januari 2022 een buitengewone vergadering van de classis Zuid gehouden\, aanvang 10.00 uur. \nOp donderdagavond 3 februari 2022 vergaderd de classis Zuid in de aula te Oudleusen\, aanvang 20.00 uur
URL:https://www.gereformeerdekerkennederland.nl/event/peremptoir-examen-van-kandidaat-r-douma/
LOCATION:Aula Oud Leusden\, Vlooswijkseweg 2\, Leusden\, 3832 RG\, Nederland
CATEGORIES:Vergadering
END:VEVENT
BEGIN:VEVENT
DTSTART;VALUE=DATE:20211014
DTEND;VALUE=DATE:20211015
DTSTAMP:20260423T001405
CREATED:20210802T070525Z
LAST-MODIFIED:20210802T070811Z
UID:155171-1634169600-1634255999@www.gereformeerdekerkennederland.nl
SUMMARY:classis Zuid GKN
DESCRIPTION:
URL:https://www.gereformeerdekerkennederland.nl/event/classis-zuid-gkn/
CATEGORIES:Vergadering
END:VEVENT
BEGIN:VEVENT
DTSTART;VALUE=DATE:20211009
DTEND;VALUE=DATE:20211010
DTSTAMP:20260423T001405
CREATED:20210802T070611Z
LAST-MODIFIED:20210802T070611Z
UID:155174-1633737600-1633823999@www.gereformeerdekerkennederland.nl
SUMMARY:Landelijke contactdag GKN
DESCRIPTION:
URL:https://www.gereformeerdekerkennederland.nl/event/landelijke-contactdag-gkn/
LOCATION:Jacobus Fruytier Scholengemeenschap\, Anklaarseweg 71\, Apeldoorn\, Nederland
END:VEVENT
BEGIN:VEVENT
DTSTART;VALUE=DATE:20211007
DTEND;VALUE=DATE:20211008
DTSTAMP:20260423T001405
CREATED:20210802T070728Z
LAST-MODIFIED:20210802T070728Z
UID:155176-1633564800-1633651199@www.gereformeerdekerkennederland.nl
SUMMARY:classis Noord GKN
DESCRIPTION:
URL:https://www.gereformeerdekerkennederland.nl/event/classis-noord-gkn/
CATEGORIES:Vergadering
END:VEVENT
BEGIN:VEVENT
DTSTART;VALUE=DATE:20211002
DTEND;VALUE=DATE:20211003
DTSTAMP:20260423T001405
CREATED:20210802T071015Z
LAST-MODIFIED:20210802T071015Z
UID:155179-1633132800-1633219199@www.gereformeerdekerkennederland.nl
SUMMARY:conferentie voor ambtsdragers te Harderwijk/ Ermelo
DESCRIPTION:sprekers: ds. H.G. Gunnink\, ds. H. Drost en prof dr. J.W. Maris.
URL:https://www.gereformeerdekerkennederland.nl/event/conferentie-voor-ambtsdragers-te-harderwijk-ermelo/
CATEGORIES:Vergadering
END:VEVENT
BEGIN:VEVENT
DTSTART;TZID=Europe/Amsterdam:20210211T193000
DTEND;TZID=Europe/Amsterdam:20210211T193000
DTSTAMP:20260423T001405
CREATED:20210104T114942Z
LAST-MODIFIED:20210104T114942Z
UID:155107-1613071800-1613071800@www.gereformeerdekerkennederland.nl
SUMMARY:Classis Zuid vergadering
DESCRIPTION:De ‘Classis Zuid’ van de GKN komt voor het eerst in vergadering bijeen op D.V. donderdagavond 11 februari 2021 in de Aula Oud Leusden\, Vlooswijkseweg 2\, 3832 RG Leusden aanvang 19.30 uur.
URL:https://www.gereformeerdekerkennederland.nl/event/classis-zuid-vergadering/
LOCATION:Aula Oud Leusden\, Vlooswijkseweg 2\, Leusden\, 3832 RG\, Nederland
CATEGORIES:Vergadering
END:VEVENT
BEGIN:VEVENT
DTSTART;TZID=Europe/Amsterdam:20201121T100000
DTEND;TZID=Europe/Amsterdam:20201121T100000
DTSTAMP:20260423T001405
CREATED:20201104T131435Z
LAST-MODIFIED:20210802T070841Z
UID:155069-1605952800-1605952800@www.gereformeerdekerkennederland.nl
SUMMARY:Voortgezette zitting GS GKN Harderwijk 3 oktober 2020
DESCRIPTION:
URL:https://www.gereformeerdekerkennederland.nl/event/voortgezette-zitting-gs-gkn-harderwijk-3-oktober-2020-3/
LOCATION:Christelijk College Nassau-Veluwe\, Stationslaan 26\, Harderwijk\, Nederland
CATEGORIES:Vergadering
END:VEVENT
BEGIN:VEVENT
DTSTART;TZID=Europe/Amsterdam:20201029T100000
DTEND;TZID=Europe/Amsterdam:20201029T170000
DTSTAMP:20260423T001405
CREATED:20201029T121259Z
LAST-MODIFIED:20210802T070856Z
UID:155061-1603965600-1603990800@www.gereformeerdekerkennederland.nl
SUMMARY:Voortgezette zitting GS GKN Harderwijk 3 oktober 2020
DESCRIPTION:
URL:https://www.gereformeerdekerkennederland.nl/event/voortgezette-zitting-gs-gkn-harderwijk-3-oktober-2020-2/
LOCATION:Christelijk College Nassau-Veluwe\, Stationslaan 26\, Harderwijk\, Nederland
CATEGORIES:Vergadering
END:VEVENT
BEGIN:VEVENT
DTSTART;TZID=Europe/Amsterdam:20201006T100000
DTEND;TZID=Europe/Amsterdam:20201006T170000
DTSTAMP:20260423T001405
CREATED:20201006T134344Z
LAST-MODIFIED:20201006T134450Z
UID:155055-1601978400-1602003600@www.gereformeerdekerkennederland.nl
SUMMARY:Voortgezette zitting GS GKN Harderwijk 3 oktober 2020
DESCRIPTION:
URL:https://www.gereformeerdekerkennederland.nl/event/voortgezette-zitting-gs-gkn-harderwijk-3-oktober-2020/
LOCATION:Christelijk College Nassau-Veluwe\, Stationslaan 26\, Harderwijk\, Nederland
CATEGORIES:Vergadering
END:VEVENT
BEGIN:VEVENT
DTSTART;TZID=Europe/Amsterdam:20201003T100000
DTEND;TZID=Europe/Amsterdam:20201003T170000
DTSTAMP:20260423T001405
CREATED:20191209T072449Z
LAST-MODIFIED:20201002T165912Z
UID:148752-1601719200-1601744400@www.gereformeerdekerkennederland.nl
SUMMARY:Generale Synode oktober 2020
DESCRIPTION:Samenroepende kerk is de Gereformeerde Kerk Harderwijk e.o. \n 
URL:https://www.gereformeerdekerkennederland.nl/event/generale-synode-oktober-2020/
LOCATION:Kerkelijk Centrum\, Jeugdkant 16\, 3851 LE Ermelo
CATEGORIES:Vergadering
END:VEVENT
BEGIN:VEVENT
DTSTART;TZID=Europe/Amsterdam:20200229T100000
DTEND;TZID=Europe/Amsterdam:20200229T100000
DTSTAMP:20260423T001405
CREATED:20200128T120354Z
LAST-MODIFIED:20200128T120354Z
UID:154985-1582970400-1582970400@www.gereformeerdekerkennederland.nl
SUMMARY:Buitengewone synode
DESCRIPTION:i.v.m. een peremptoir examen.
URL:https://www.gereformeerdekerkennederland.nl/event/buitengewone-synode-2/
LOCATION:Beetsstraat 17 Harderwijk\, Beetsstraat 17\, Harderwijk\, 3842 AJ\, Nederland
CATEGORIES:Vergadering
END:VEVENT
BEGIN:VEVENT
DTSTART;TZID=Europe/Amsterdam:20200201T080000
DTEND;TZID=Europe/Amsterdam:20200201T170000
DTSTAMP:20260423T001405
CREATED:20191209T072420Z
LAST-MODIFIED:20191209T072420Z
UID:148750-1580544000-1580576400@www.gereformeerdekerkennederland.nl
SUMMARY:Vervolgzitting Generale Synode 2 november 2019
DESCRIPTION:de Generale Synode  van 2 november 2019 hoopt op 1 februari 2020 haar agenda af te ronden.
URL:https://www.gereformeerdekerkennederland.nl/event/vervolgzitting-generale-synode-2-november-2019/
CATEGORIES:Vergadering
END:VEVENT
BEGIN:VEVENT
DTSTART;VALUE=DATE:20191225
DTEND;VALUE=DATE:20191227
DTSTAMP:20260423T001405
CREATED:20190420T055928Z
LAST-MODIFIED:20190420T055928Z
UID:1223-1577232000-1577404799@www.gereformeerdekerkennederland.nl
SUMMARY:Kerst
DESCRIPTION:
URL:https://www.gereformeerdekerkennederland.nl/event/kerst/
CATEGORIES:Chirstelijke feestdag
END:VEVENT
BEGIN:VEVENT
DTSTART;TZID=Europe/Amsterdam:20191102T100000
DTEND;TZID=Europe/Amsterdam:20191102T170000
DTSTAMP:20260423T001405
CREATED:20190420T055341Z
LAST-MODIFIED:20190420T055619Z
UID:1212-1572688800-1572714000@www.gereformeerdekerkennederland.nl
SUMMARY:Generale Synode
DESCRIPTION:Samenroepende kerk GK Hardenberg e.o.
URL:https://www.gereformeerdekerkennederland.nl/event/generale-synode-3/
CATEGORIES:Vergadering
END:VEVENT
BEGIN:VEVENT
DTSTART;TZID=Europe/Amsterdam:20190622T100000
DTEND;TZID=Europe/Amsterdam:20190622T170000
DTSTAMP:20260423T001405
CREATED:20190420T055543Z
LAST-MODIFIED:20190420T055641Z
UID:1214-1561197600-1561222800@www.gereformeerdekerkennederland.nl
SUMMARY:Buitengewone synode
DESCRIPTION:I.v.m. een aanvraag voor een preparatoir examen
URL:https://www.gereformeerdekerkennederland.nl/event/buitengewone-synode/
LOCATION:De Esch\, Hessenweg 47\, Hardenberg\, 7771RD\, Nederland
CATEGORIES:Vergadering
END:VEVENT
BEGIN:VEVENT
DTSTART;VALUE=DATE:20190609
DTEND;VALUE=DATE:20190611
DTSTAMP:20260423T001405
CREATED:20190420T055904Z
LAST-MODIFIED:20190420T055904Z
UID:1221-1560038400-1560211199@www.gereformeerdekerkennederland.nl
SUMMARY:Pinksteren
DESCRIPTION:
URL:https://www.gereformeerdekerkennederland.nl/event/pinksteren/
CATEGORIES:Chirstelijke feestdag
END:VEVENT
END:VCALENDAR