BEGIN:VCALENDAR
VERSION:2.0
PRODID:-//Gereformeerde Kerken Nederland - ECPv6.1.3//NONSGML v1.0//EN
CALSCALE:GREGORIAN
METHOD:PUBLISH
X-WR-CALNAME:Gereformeerde Kerken Nederland
X-ORIGINAL-URL:https://www.gereformeerdekerkennederland.nl
X-WR-CALDESC:Evenementen voor Gereformeerde Kerken Nederland
REFRESH-INTERVAL;VALUE=DURATION:PT1H
X-Robots-Tag:noindex
X-PUBLISHED-TTL:PT1H
BEGIN:VTIMEZONE
TZID:Europe/Amsterdam
BEGIN:DAYLIGHT
TZOFFSETFROM:+0100
TZOFFSETTO:+0200
TZNAME:CEST
DTSTART:20170326T010000
END:DAYLIGHT
BEGIN:STANDARD
TZOFFSETFROM:+0200
TZOFFSETTO:+0100
TZNAME:CET
DTSTART:20171029T010000
END:STANDARD
BEGIN:DAYLIGHT
TZOFFSETFROM:+0100
TZOFFSETTO:+0200
TZNAME:CEST
DTSTART:20180325T010000
END:DAYLIGHT
BEGIN:STANDARD
TZOFFSETFROM:+0200
TZOFFSETTO:+0100
TZNAME:CET
DTSTART:20181028T010000
END:STANDARD
BEGIN:DAYLIGHT
TZOFFSETFROM:+0100
TZOFFSETTO:+0200
TZNAME:CEST
DTSTART:20190331T010000
END:DAYLIGHT
BEGIN:STANDARD
TZOFFSETFROM:+0200
TZOFFSETTO:+0100
TZNAME:CET
DTSTART:20191027T010000
END:STANDARD
BEGIN:DAYLIGHT
TZOFFSETFROM:+0100
TZOFFSETTO:+0200
TZNAME:CEST
DTSTART:20200329T010000
END:DAYLIGHT
BEGIN:STANDARD
TZOFFSETFROM:+0200
TZOFFSETTO:+0100
TZNAME:CET
DTSTART:20201025T010000
END:STANDARD
END:VTIMEZONE
BEGIN:VEVENT
DTSTART;TZID=Europe/Amsterdam:20201121T100000
DTEND;TZID=Europe/Amsterdam:20201121T100000
DTSTAMP:20260422T024442
CREATED:20201104T131435Z
LAST-MODIFIED:20210802T070841Z
UID:155069-1605952800-1605952800@www.gereformeerdekerkennederland.nl
SUMMARY:Voortgezette zitting GS GKN Harderwijk 3 oktober 2020
DESCRIPTION:
URL:https://www.gereformeerdekerkennederland.nl/event/voortgezette-zitting-gs-gkn-harderwijk-3-oktober-2020-3/
LOCATION:Christelijk College Nassau-Veluwe\, Stationslaan 26\, Harderwijk\, Nederland
CATEGORIES:Vergadering
END:VEVENT
BEGIN:VEVENT
DTSTART;TZID=Europe/Amsterdam:20201029T100000
DTEND;TZID=Europe/Amsterdam:20201029T170000
DTSTAMP:20260422T024442
CREATED:20201029T121259Z
LAST-MODIFIED:20210802T070856Z
UID:155061-1603965600-1603990800@www.gereformeerdekerkennederland.nl
SUMMARY:Voortgezette zitting GS GKN Harderwijk 3 oktober 2020
DESCRIPTION:
URL:https://www.gereformeerdekerkennederland.nl/event/voortgezette-zitting-gs-gkn-harderwijk-3-oktober-2020-2/
LOCATION:Christelijk College Nassau-Veluwe\, Stationslaan 26\, Harderwijk\, Nederland
CATEGORIES:Vergadering
END:VEVENT
BEGIN:VEVENT
DTSTART;TZID=Europe/Amsterdam:20201006T100000
DTEND;TZID=Europe/Amsterdam:20201006T170000
DTSTAMP:20260422T024442
CREATED:20201006T134344Z
LAST-MODIFIED:20201006T134450Z
UID:155055-1601978400-1602003600@www.gereformeerdekerkennederland.nl
SUMMARY:Voortgezette zitting GS GKN Harderwijk 3 oktober 2020
DESCRIPTION:
URL:https://www.gereformeerdekerkennederland.nl/event/voortgezette-zitting-gs-gkn-harderwijk-3-oktober-2020/
LOCATION:Christelijk College Nassau-Veluwe\, Stationslaan 26\, Harderwijk\, Nederland
CATEGORIES:Vergadering
END:VEVENT
BEGIN:VEVENT
DTSTART;TZID=Europe/Amsterdam:20201003T100000
DTEND;TZID=Europe/Amsterdam:20201003T170000
DTSTAMP:20260422T024442
CREATED:20191209T072449Z
LAST-MODIFIED:20201002T165912Z
UID:148752-1601719200-1601744400@www.gereformeerdekerkennederland.nl
SUMMARY:Generale Synode oktober 2020
DESCRIPTION:Samenroepende kerk is de Gereformeerde Kerk Harderwijk e.o. \n 
URL:https://www.gereformeerdekerkennederland.nl/event/generale-synode-oktober-2020/
LOCATION:Kerkelijk Centrum\, Jeugdkant 16\, 3851 LE Ermelo
CATEGORIES:Vergadering
END:VEVENT
BEGIN:VEVENT
DTSTART;TZID=Europe/Amsterdam:20200229T100000
DTEND;TZID=Europe/Amsterdam:20200229T100000
DTSTAMP:20260422T024442
CREATED:20200128T120354Z
LAST-MODIFIED:20200128T120354Z
UID:154985-1582970400-1582970400@www.gereformeerdekerkennederland.nl
SUMMARY:Buitengewone synode
DESCRIPTION:i.v.m. een peremptoir examen.
URL:https://www.gereformeerdekerkennederland.nl/event/buitengewone-synode-2/
LOCATION:Beetsstraat 17 Harderwijk\, Beetsstraat 17\, Harderwijk\, 3842 AJ\, Nederland
CATEGORIES:Vergadering
END:VEVENT
BEGIN:VEVENT
DTSTART;TZID=Europe/Amsterdam:20200201T080000
DTEND;TZID=Europe/Amsterdam:20200201T170000
DTSTAMP:20260422T024442
CREATED:20191209T072420Z
LAST-MODIFIED:20191209T072420Z
UID:148750-1580544000-1580576400@www.gereformeerdekerkennederland.nl
SUMMARY:Vervolgzitting Generale Synode 2 november 2019
DESCRIPTION:de Generale Synode  van 2 november 2019 hoopt op 1 februari 2020 haar agenda af te ronden.
URL:https://www.gereformeerdekerkennederland.nl/event/vervolgzitting-generale-synode-2-november-2019/
CATEGORIES:Vergadering
END:VEVENT
BEGIN:VEVENT
DTSTART;VALUE=DATE:20191225
DTEND;VALUE=DATE:20191227
DTSTAMP:20260422T024442
CREATED:20190420T055928Z
LAST-MODIFIED:20190420T055928Z
UID:1223-1577232000-1577404799@www.gereformeerdekerkennederland.nl
SUMMARY:Kerst
DESCRIPTION:
URL:https://www.gereformeerdekerkennederland.nl/event/kerst/
CATEGORIES:Chirstelijke feestdag
END:VEVENT
BEGIN:VEVENT
DTSTART;TZID=Europe/Amsterdam:20191102T100000
DTEND;TZID=Europe/Amsterdam:20191102T170000
DTSTAMP:20260422T024442
CREATED:20190420T055341Z
LAST-MODIFIED:20190420T055619Z
UID:1212-1572688800-1572714000@www.gereformeerdekerkennederland.nl
SUMMARY:Generale Synode
DESCRIPTION:Samenroepende kerk GK Hardenberg e.o.
URL:https://www.gereformeerdekerkennederland.nl/event/generale-synode-3/
CATEGORIES:Vergadering
END:VEVENT
BEGIN:VEVENT
DTSTART;TZID=Europe/Amsterdam:20190622T100000
DTEND;TZID=Europe/Amsterdam:20190622T170000
DTSTAMP:20260422T024442
CREATED:20190420T055543Z
LAST-MODIFIED:20190420T055641Z
UID:1214-1561197600-1561222800@www.gereformeerdekerkennederland.nl
SUMMARY:Buitengewone synode
DESCRIPTION:I.v.m. een aanvraag voor een preparatoir examen
URL:https://www.gereformeerdekerkennederland.nl/event/buitengewone-synode/
LOCATION:De Esch\, Hessenweg 47\, Hardenberg\, 7771RD\, Nederland
CATEGORIES:Vergadering
END:VEVENT
BEGIN:VEVENT
DTSTART;VALUE=DATE:20190609
DTEND;VALUE=DATE:20190611
DTSTAMP:20260422T024442
CREATED:20190420T055904Z
LAST-MODIFIED:20190420T055904Z
UID:1221-1560038400-1560211199@www.gereformeerdekerkennederland.nl
SUMMARY:Pinksteren
DESCRIPTION:
URL:https://www.gereformeerdekerkennederland.nl/event/pinksteren/
CATEGORIES:Chirstelijke feestdag
END:VEVENT
BEGIN:VEVENT
DTSTART;VALUE=DATE:20190530
DTEND;VALUE=DATE:20190531
DTSTAMP:20260422T024442
CREATED:20190420T055811Z
LAST-MODIFIED:20190420T055811Z
UID:1219-1559174400-1559260799@www.gereformeerdekerkennederland.nl
SUMMARY:Hemelvaartsdag
DESCRIPTION:
URL:https://www.gereformeerdekerkennederland.nl/event/hemelvaartsdag-2/
CATEGORIES:Chirstelijke feestdag
END:VEVENT
BEGIN:VEVENT
DTSTART;VALUE=DATE:20190421
DTEND;VALUE=DATE:20190423
DTSTAMP:20260422T024442
CREATED:20190420T055725Z
LAST-MODIFIED:20190420T055725Z
UID:1217-1555804800-1555977599@www.gereformeerdekerkennederland.nl
SUMMARY:Pasen
DESCRIPTION:
URL:https://www.gereformeerdekerkennederland.nl/event/pasen/
CATEGORIES:Chirstelijke feestdag
END:VEVENT
BEGIN:VEVENT
DTSTART;TZID=Europe/Amsterdam:20190323T100000
DTEND;TZID=Europe/Amsterdam:20190323T150000
DTSTAMP:20260422T024442
CREATED:20181130T062439Z
LAST-MODIFIED:20190420T055635Z
UID:1153-1553335200-1553353200@www.gereformeerdekerkennederland.nl
SUMMARY:Generale Synode 23 maart 2019
DESCRIPTION:
URL:https://www.gereformeerdekerkennederland.nl/event/genereale-synode-23-maart-2019/
CATEGORIES:Vergadering
END:VEVENT
BEGIN:VEVENT
DTSTART;VALUE=DATE:20190101
DTEND;VALUE=DATE:20190102
DTSTAMP:20260422T024442
CREATED:20181130T063943Z
LAST-MODIFIED:20210802T070917Z
UID:1172-1546300800-1546387199@www.gereformeerdekerkennederland.nl
SUMMARY:Nieuwjaarsdag
DESCRIPTION:
URL:https://www.gereformeerdekerkennederland.nl/event/nieuwjaarsdag-2/
CATEGORIES:Feestdag
END:VEVENT
BEGIN:VEVENT
DTSTART;VALUE=DATE:20181231
DTEND;VALUE=DATE:20190101
DTSTAMP:20260422T024442
CREATED:20181130T063925Z
LAST-MODIFIED:20181130T063925Z
UID:1170-1546214400-1546300799@www.gereformeerdekerkennederland.nl
SUMMARY:Oudjaarsdag
DESCRIPTION:
URL:https://www.gereformeerdekerkennederland.nl/event/oudjaarsdag-2/
END:VEVENT
BEGIN:VEVENT
DTSTART;VALUE=DATE:20181226
DTEND;VALUE=DATE:20181227
DTSTAMP:20260422T024442
CREATED:20181130T063903Z
LAST-MODIFIED:20181130T063903Z
UID:1168-1545782400-1545868799@www.gereformeerdekerkennederland.nl
SUMMARY:2de Kerstdag
DESCRIPTION:
URL:https://www.gereformeerdekerkennederland.nl/event/2de-kerstdag/
END:VEVENT
BEGIN:VEVENT
DTSTART;VALUE=DATE:20181225
DTEND;VALUE=DATE:20181226
DTSTAMP:20260422T024442
CREATED:20181130T063841Z
LAST-MODIFIED:20181130T063841Z
UID:1166-1545696000-1545782399@www.gereformeerdekerkennederland.nl
SUMMARY:1e Kerstdag
DESCRIPTION:
URL:https://www.gereformeerdekerkennederland.nl/event/1e-kerstdag/
END:VEVENT
BEGIN:VEVENT
DTSTART;TZID=Europe/Amsterdam:20181124T100000
DTEND;TZID=Europe/Amsterdam:20181124T150000
DTSTAMP:20260422T024442
CREATED:20181119T090240Z
LAST-MODIFIED:20181119T090240Z
UID:1150-1543053600-1543071600@www.gereformeerdekerkennederland.nl
SUMMARY:Voorzetting generale synode
DESCRIPTION:
URL:https://www.gereformeerdekerkennederland.nl/event/voorzetting-generale-synode/
LOCATION:Beetsstraat 17 Harderwijk\, Beetsstraat 17\, Harderwijk\, 3842 AJ\, Nederland
END:VEVENT
BEGIN:VEVENT
DTSTART;TZID=Europe/Amsterdam:20181006T100000
DTEND;TZID=Europe/Amsterdam:20181006T170000
DTSTAMP:20260422T024442
CREATED:20180428T061200Z
LAST-MODIFIED:20180820T044756Z
UID:1096-1538820000-1538845200@www.gereformeerdekerkennederland.nl
SUMMARY:Generale Synode 6 oktober 2018
DESCRIPTION:De Generale Synode zal bijeenkomen op D.V. zaterdag 6 oktober 2018 in het kerkgebouw Beetsstraat 17\, 3842 AJ Harderwijk. Aanvang 10.00 uur. Samenroepende kerk is de GK Dalfsen. \nZaken voor de agenda kunnen uiterlijk tot vrijdag 24 augustus door de kerken worden in gediend bij de deputaat-scriba.
URL:https://www.gereformeerdekerkennederland.nl/event/generale-synode-6-oktober-2018/
LOCATION:Beetsstraat 17 Harderwijk\, Beetsstraat 17\, Harderwijk\, 3842 AJ\, Nederland
CATEGORIES:Vergadering
END:VEVENT
BEGIN:VEVENT
DTSTART;TZID=Europe/Amsterdam:20180929T093000
DTEND;TZID=Europe/Amsterdam:20180929T153000
DTSTAMP:20260422T024442
CREATED:20180823T103214Z
LAST-MODIFIED:20180823T103214Z
UID:1123-1538213400-1538235000@www.gereformeerdekerkennederland.nl
SUMMARY:Ambtsdragersconferentie
DESCRIPTION:Onderwerpen: \nOchtend: Preekevaluatie op de kerkenraad\nStelling: Preekbespreking op de kerkenraad is een noodzakelijk onderdeel van het gezamenlijk leiding geven aan Gods gemeente. \nMiddag: Onderwijs na de geloofsbelijdenis\nStelling: De verantwoordelijkheid van de kerkenraad om de gemeente te (laten) onderwijzen omvat meer dan de zorg voor kerkdienst en catechisatie. \nBij deze conferentie ligt de nadruk niet op sprekers met een referaat\, maar op de eigen inbreng van de deelnemers. Het gaat erom dat zij ruimte krijgen om ervaringen uit te wisselen\, elkaar te steunen en te bemoedigen. \nDe conferentie is bestemd voor ambtsdragers in de Gereformeerde Kerken Nederland. Voor zover de ruimte het toelaat kunnen anderen worden toegelaten\, als zij daarvoor een gemotiveerd verzoek indienen. We denken daarbij aan voormalige ambtsdragers\, mannen die zich voorbereiden op een eventueel toekomstig ambt\, catecheten en mensen die leiding geven aan Bijbelstudies..\nVan de deelnemers wordt een bijdrage van € 15\,- verwacht in de kosten van zaalhuur\, koffie\, thee en lunch.\nVoor inlichtingen en opgave: conferentie@gkede-eo.nl
URL:https://www.gereformeerdekerkennederland.nl/event/ambtsdragersconferentie/
LOCATION:kerkgebouw GK Harderwijk e.o.\, Beetsstraat 17\, Harderwijk\, 3842AJ
END:VEVENT
BEGIN:VEVENT
DTSTART;TZID=Europe/Amsterdam:20180602T090000
DTEND;TZID=Europe/Amsterdam:20180602T123000
DTSTAMP:20260422T024442
CREATED:20180417T112314Z
LAST-MODIFIED:20180530T165100Z
UID:1082-1527930000-1527942600@www.gereformeerdekerkennederland.nl
SUMMARY:CONGRES: DE BIJBELS ANDERS LEZEN?
DESCRIPTION:Opgave via: info@gereformeerdekerkennederland.nl \n9.30 Opening \n9.40 ds R van der Wolf Het evangelie van Gods Zoon \n10.00 Bespreking \n10.20 ds A. Bas Hermeneutiek van de kerkgeschiedenis \n10.40 Bespreking \n11.00 Koffie \n11.10 ds L Heres Wereldbeeld en wereldbeschouwing in het Oude Testament \n11.30 Bespreking \n11.50 ds JR Visser Verbeterde visie? De gevolgen voor de ethiek \n12.10 Bespreking \n12.30 Sluiting
URL:https://www.gereformeerdekerkennederland.nl/event/congres-de-bijbels-anders-lezen/
LOCATION:Aula Oosteinde 12\, 3842 DR Harderwijk\, Oosteinde 12\, Harderwijk\, 3842 DR\, Nederland
END:VEVENT
BEGIN:VEVENT
DTSTART;TZID=Europe/Amsterdam:20180518T200000
DTEND;TZID=Europe/Amsterdam:20180518T220000
DTSTAMP:20260422T024442
CREATED:20180428T061114Z
LAST-MODIFIED:20180428T061213Z
UID:1093-1526673600-1526680800@www.gereformeerdekerkennederland.nl
SUMMARY:Buitengewone synode 18 mei 2018
DESCRIPTION:Op 18 mei 2018 is er een buitengewone Generale Synode i.v.m. het verzoek tot toelaten van ds. A. de Jager tot de dienst des Woords in de Gereformeerde Kerken Nederland (GKN).  Samenroepende kerk is de GK Dalfsen. De buitengewone synode zal worden gehouden in het kerkgebouw Beetsstraat 17 3842 AJ Harderwijk. De synode begint om 20.00 uur
URL:https://www.gereformeerdekerkennederland.nl/event/buitengewone-synode-18-mei-2018/
LOCATION:Beetsstraat 17 Harderwijk\, Beetsstraat 17\, Harderwijk\, 3842 AJ\, Nederland
CATEGORIES:Vergadering
END:VEVENT
BEGIN:VEVENT
DTSTART;TZID=Europe/Amsterdam:20180317T100000
DTEND;TZID=Europe/Amsterdam:20180317T170000
DTSTAMP:20260422T024442
CREATED:20171016T070456Z
LAST-MODIFIED:20180305T140214Z
UID:1007-1521280800-1521306000@www.gereformeerdekerkennederland.nl
SUMMARY:Generale Synode maart 2018
DESCRIPTION:De agenda vindt u hier
URL:https://www.gereformeerdekerkennederland.nl/event/generale-synode-maart-2018/
LOCATION:Hoofdweg 70\,  9362 RB Boerakker\, Hoofdweg 70\, Boerakker\, 9362\, Nederland
CATEGORIES:Vergadering
END:VEVENT
BEGIN:VEVENT
DTSTART;TZID=Europe/Amsterdam:20180310T103000
DTEND;TZID=Europe/Amsterdam:20180310T153000
DTSTAMP:20260422T024442
CREATED:20180305T140059Z
LAST-MODIFIED:20180305T140106Z
UID:1056-1520677800-1520695800@www.gereformeerdekerkennederland.nl
SUMMARY:Landelijke contactdag
DESCRIPTION:Ds. V. d’ Assonville zal de dag inleiden onder het thema: \nLevensheiliging in de praktijk van elke dag\nHet onderwerp zal verder worden besproken.\nDe jongelui van het voortgezet onderwijs krijgen de gelegenheid samen op te trekken.\nVoor de jongens en meisjes van de basisschoolleeftijd is er een apart programma. \nEr is tijd voor ontmoeting\, muziek en samenzang. \nDe contactdag begint om 10:30 uur met koffie/thee/fris. \nDe sluiting staat gepland om 14:30 uur daarna is er nog een gezellig samenzijn tot 15:30 uur. \nWij hopen op een fijne\, opbouwende dag voor ieder persoonlijk\, voor de kerken en bovenal tot eer van onze God. We hopen van harte dat u/jij er ook bij kunt en wilt zijn! \nVoor meer informatie kunt u altijd mailen naar: info@landelijkecontactdagen.nl \nFinanciële ondersteuning kunt u overmaken op IBAN nummer NL64ABNA0499960106 t.n.v. St. Gereformeerd Maandblad o.v.v. Landelijke Contactdag GKN
URL:https://www.gereformeerdekerkennederland.nl/event/landelijke-contactdag/
LOCATION:Jacobus Fruytier Scholengemeenschap\, Anklaarseweg 71\, Apeldoorn\, Nederland
END:VEVENT
BEGIN:VEVENT
DTSTART;VALUE=DATE:20171226
DTEND;VALUE=DATE:20171227
DTSTAMP:20260422T024442
CREATED:20161006T124817Z
LAST-MODIFIED:20161006T124817Z
UID:764-1514246400-1514332799@www.gereformeerdekerkennederland.nl
SUMMARY:Tweede kerstdag
DESCRIPTION:
URL:https://www.gereformeerdekerkennederland.nl/event/tweede-kerstdag-2/
CATEGORIES:Chirstelijke feestdag
END:VEVENT
BEGIN:VEVENT
DTSTART;VALUE=DATE:20171225
DTEND;VALUE=DATE:20171226
DTSTAMP:20260422T024442
CREATED:20161006T124750Z
LAST-MODIFIED:20161006T124750Z
UID:762-1514160000-1514246399@www.gereformeerdekerkennederland.nl
SUMMARY:Eerste kerstdag
DESCRIPTION:
URL:https://www.gereformeerdekerkennederland.nl/event/eerste-kerstdag-2/
CATEGORIES:Chirstelijke feestdag
END:VEVENT
BEGIN:VEVENT
DTSTART;VALUE=DATE:20171101
DTEND;VALUE=DATE:20171102
DTSTAMP:20260422T024442
CREATED:20161006T125240Z
LAST-MODIFIED:20161006T125240Z
UID:770-1509494400-1509580799@www.gereformeerdekerkennederland.nl
SUMMARY:Dankdag voor Gewas en Arbeid
DESCRIPTION:
URL:https://www.gereformeerdekerkennederland.nl/event/dankdag-voor-gewas-en-arbeid-2/
END:VEVENT
BEGIN:VEVENT
DTSTART;TZID=Europe/Amsterdam:20171007T100000
DTEND;TZID=Europe/Amsterdam:20171007T170000
DTSTAMP:20260422T024442
CREATED:20170403T052838Z
LAST-MODIFIED:20170905T043938Z
UID:937-1507370400-1507395600@www.gereformeerdekerkennederland.nl
SUMMARY:Generale Synode oktober 2017
DESCRIPTION:
URL:https://www.gereformeerdekerkennederland.nl/event/generale-synode-oktober-2017/
LOCATION:kerkgebouw GK Harderwijk e.o.\, Beetsstraat 17\, Harderwijk\, 3842AJ
CATEGORIES:Vergadering
END:VEVENT
BEGIN:VEVENT
DTSTART;VALUE=DATE:20170605
DTEND;VALUE=DATE:20170606
DTSTAMP:20260422T024442
CREATED:20161006T124712Z
LAST-MODIFIED:20161006T124712Z
UID:760-1496620800-1496707199@www.gereformeerdekerkennederland.nl
SUMMARY:Tweede Pinksterdag
DESCRIPTION:
URL:https://www.gereformeerdekerkennederland.nl/event/tweede-pinksterdag/
CATEGORIES:Chirstelijke feestdag
END:VEVENT
BEGIN:VEVENT
DTSTART;VALUE=DATE:20170604
DTEND;VALUE=DATE:20170605
DTSTAMP:20260422T024442
CREATED:20161006T124649Z
LAST-MODIFIED:20161006T124649Z
UID:758-1496534400-1496620799@www.gereformeerdekerkennederland.nl
SUMMARY:Eerste Pinksterdag
DESCRIPTION:
URL:https://www.gereformeerdekerkennederland.nl/event/eerste-pinksterdag/
CATEGORIES:Chirstelijke feestdag
END:VEVENT
END:VCALENDAR