BEGIN:VCALENDAR
VERSION:2.0
PRODID:-//Gereformeerde Kerken Nederland - ECPv6.1.3//NONSGML v1.0//EN
CALSCALE:GREGORIAN
METHOD:PUBLISH
X-WR-CALNAME:Gereformeerde Kerken Nederland
X-ORIGINAL-URL:https://www.gereformeerdekerkennederland.nl
X-WR-CALDESC:Evenementen voor Gereformeerde Kerken Nederland
REFRESH-INTERVAL;VALUE=DURATION:PT1H
X-Robots-Tag:noindex
X-PUBLISHED-TTL:PT1H
BEGIN:VTIMEZONE
TZID:Europe/Amsterdam
BEGIN:DAYLIGHT
TZOFFSETFROM:+0100
TZOFFSETTO:+0200
TZNAME:CEST
DTSTART:20150329T010000
END:DAYLIGHT
BEGIN:STANDARD
TZOFFSETFROM:+0200
TZOFFSETTO:+0100
TZNAME:CET
DTSTART:20151025T010000
END:STANDARD
BEGIN:DAYLIGHT
TZOFFSETFROM:+0100
TZOFFSETTO:+0200
TZNAME:CEST
DTSTART:20160327T010000
END:DAYLIGHT
BEGIN:STANDARD
TZOFFSETFROM:+0200
TZOFFSETTO:+0100
TZNAME:CET
DTSTART:20161030T010000
END:STANDARD
BEGIN:DAYLIGHT
TZOFFSETFROM:+0100
TZOFFSETTO:+0200
TZNAME:CEST
DTSTART:20170326T010000
END:DAYLIGHT
BEGIN:STANDARD
TZOFFSETFROM:+0200
TZOFFSETTO:+0100
TZNAME:CET
DTSTART:20171029T010000
END:STANDARD
BEGIN:DAYLIGHT
TZOFFSETFROM:+0100
TZOFFSETTO:+0200
TZNAME:CEST
DTSTART:20180325T010000
END:DAYLIGHT
BEGIN:STANDARD
TZOFFSETFROM:+0200
TZOFFSETTO:+0100
TZNAME:CET
DTSTART:20181028T010000
END:STANDARD
END:VTIMEZONE
BEGIN:VEVENT
DTSTART;TZID=Europe/Amsterdam:20180602T090000
DTEND;TZID=Europe/Amsterdam:20180602T123000
DTSTAMP:20260422T032630
CREATED:20180417T112314Z
LAST-MODIFIED:20180530T165100Z
UID:1082-1527930000-1527942600@www.gereformeerdekerkennederland.nl
SUMMARY:CONGRES: DE BIJBELS ANDERS LEZEN?
DESCRIPTION:Opgave via: info@gereformeerdekerkennederland.nl \n9.30 Opening \n9.40 ds R van der Wolf Het evangelie van Gods Zoon \n10.00 Bespreking \n10.20 ds A. Bas Hermeneutiek van de kerkgeschiedenis \n10.40 Bespreking \n11.00 Koffie \n11.10 ds L Heres Wereldbeeld en wereldbeschouwing in het Oude Testament \n11.30 Bespreking \n11.50 ds JR Visser Verbeterde visie? De gevolgen voor de ethiek \n12.10 Bespreking \n12.30 Sluiting
URL:https://www.gereformeerdekerkennederland.nl/event/congres-de-bijbels-anders-lezen/
LOCATION:Aula Oosteinde 12\, 3842 DR Harderwijk\, Oosteinde 12\, Harderwijk\, 3842 DR\, Nederland
END:VEVENT
BEGIN:VEVENT
DTSTART;TZID=Europe/Amsterdam:20180518T200000
DTEND;TZID=Europe/Amsterdam:20180518T220000
DTSTAMP:20260422T032630
CREATED:20180428T061114Z
LAST-MODIFIED:20180428T061213Z
UID:1093-1526673600-1526680800@www.gereformeerdekerkennederland.nl
SUMMARY:Buitengewone synode 18 mei 2018
DESCRIPTION:Op 18 mei 2018 is er een buitengewone Generale Synode i.v.m. het verzoek tot toelaten van ds. A. de Jager tot de dienst des Woords in de Gereformeerde Kerken Nederland (GKN).  Samenroepende kerk is de GK Dalfsen. De buitengewone synode zal worden gehouden in het kerkgebouw Beetsstraat 17 3842 AJ Harderwijk. De synode begint om 20.00 uur
URL:https://www.gereformeerdekerkennederland.nl/event/buitengewone-synode-18-mei-2018/
LOCATION:Beetsstraat 17 Harderwijk\, Beetsstraat 17\, Harderwijk\, 3842 AJ\, Nederland
CATEGORIES:Vergadering
END:VEVENT
BEGIN:VEVENT
DTSTART;TZID=Europe/Amsterdam:20180317T100000
DTEND;TZID=Europe/Amsterdam:20180317T170000
DTSTAMP:20260422T032630
CREATED:20171016T070456Z
LAST-MODIFIED:20180305T140214Z
UID:1007-1521280800-1521306000@www.gereformeerdekerkennederland.nl
SUMMARY:Generale Synode maart 2018
DESCRIPTION:De agenda vindt u hier
URL:https://www.gereformeerdekerkennederland.nl/event/generale-synode-maart-2018/
LOCATION:Hoofdweg 70\,  9362 RB Boerakker\, Hoofdweg 70\, Boerakker\, 9362\, Nederland
CATEGORIES:Vergadering
END:VEVENT
BEGIN:VEVENT
DTSTART;TZID=Europe/Amsterdam:20180310T103000
DTEND;TZID=Europe/Amsterdam:20180310T153000
DTSTAMP:20260422T032630
CREATED:20180305T140059Z
LAST-MODIFIED:20180305T140106Z
UID:1056-1520677800-1520695800@www.gereformeerdekerkennederland.nl
SUMMARY:Landelijke contactdag
DESCRIPTION:Ds. V. d’ Assonville zal de dag inleiden onder het thema: \nLevensheiliging in de praktijk van elke dag\nHet onderwerp zal verder worden besproken.\nDe jongelui van het voortgezet onderwijs krijgen de gelegenheid samen op te trekken.\nVoor de jongens en meisjes van de basisschoolleeftijd is er een apart programma. \nEr is tijd voor ontmoeting\, muziek en samenzang. \nDe contactdag begint om 10:30 uur met koffie/thee/fris. \nDe sluiting staat gepland om 14:30 uur daarna is er nog een gezellig samenzijn tot 15:30 uur. \nWij hopen op een fijne\, opbouwende dag voor ieder persoonlijk\, voor de kerken en bovenal tot eer van onze God. We hopen van harte dat u/jij er ook bij kunt en wilt zijn! \nVoor meer informatie kunt u altijd mailen naar: info@landelijkecontactdagen.nl \nFinanciële ondersteuning kunt u overmaken op IBAN nummer NL64ABNA0499960106 t.n.v. St. Gereformeerd Maandblad o.v.v. Landelijke Contactdag GKN
URL:https://www.gereformeerdekerkennederland.nl/event/landelijke-contactdag/
LOCATION:Jacobus Fruytier Scholengemeenschap\, Anklaarseweg 71\, Apeldoorn\, Nederland
END:VEVENT
BEGIN:VEVENT
DTSTART;VALUE=DATE:20171226
DTEND;VALUE=DATE:20171227
DTSTAMP:20260422T032630
CREATED:20161006T124817Z
LAST-MODIFIED:20161006T124817Z
UID:764-1514246400-1514332799@www.gereformeerdekerkennederland.nl
SUMMARY:Tweede kerstdag
DESCRIPTION:
URL:https://www.gereformeerdekerkennederland.nl/event/tweede-kerstdag-2/
CATEGORIES:Chirstelijke feestdag
END:VEVENT
BEGIN:VEVENT
DTSTART;VALUE=DATE:20171225
DTEND;VALUE=DATE:20171226
DTSTAMP:20260422T032630
CREATED:20161006T124750Z
LAST-MODIFIED:20161006T124750Z
UID:762-1514160000-1514246399@www.gereformeerdekerkennederland.nl
SUMMARY:Eerste kerstdag
DESCRIPTION:
URL:https://www.gereformeerdekerkennederland.nl/event/eerste-kerstdag-2/
CATEGORIES:Chirstelijke feestdag
END:VEVENT
BEGIN:VEVENT
DTSTART;VALUE=DATE:20171101
DTEND;VALUE=DATE:20171102
DTSTAMP:20260422T032630
CREATED:20161006T125240Z
LAST-MODIFIED:20161006T125240Z
UID:770-1509494400-1509580799@www.gereformeerdekerkennederland.nl
SUMMARY:Dankdag voor Gewas en Arbeid
DESCRIPTION:
URL:https://www.gereformeerdekerkennederland.nl/event/dankdag-voor-gewas-en-arbeid-2/
END:VEVENT
BEGIN:VEVENT
DTSTART;TZID=Europe/Amsterdam:20171007T100000
DTEND;TZID=Europe/Amsterdam:20171007T170000
DTSTAMP:20260422T032630
CREATED:20170403T052838Z
LAST-MODIFIED:20170905T043938Z
UID:937-1507370400-1507395600@www.gereformeerdekerkennederland.nl
SUMMARY:Generale Synode oktober 2017
DESCRIPTION:
URL:https://www.gereformeerdekerkennederland.nl/event/generale-synode-oktober-2017/
LOCATION:kerkgebouw GK Harderwijk e.o.\, Beetsstraat 17\, Harderwijk\, 3842AJ
CATEGORIES:Vergadering
END:VEVENT
BEGIN:VEVENT
DTSTART;VALUE=DATE:20170605
DTEND;VALUE=DATE:20170606
DTSTAMP:20260422T032630
CREATED:20161006T124712Z
LAST-MODIFIED:20161006T124712Z
UID:760-1496620800-1496707199@www.gereformeerdekerkennederland.nl
SUMMARY:Tweede Pinksterdag
DESCRIPTION:
URL:https://www.gereformeerdekerkennederland.nl/event/tweede-pinksterdag/
CATEGORIES:Chirstelijke feestdag
END:VEVENT
BEGIN:VEVENT
DTSTART;VALUE=DATE:20170604
DTEND;VALUE=DATE:20170605
DTSTAMP:20260422T032630
CREATED:20161006T124649Z
LAST-MODIFIED:20161006T124649Z
UID:758-1496534400-1496620799@www.gereformeerdekerkennederland.nl
SUMMARY:Eerste Pinksterdag
DESCRIPTION:
URL:https://www.gereformeerdekerkennederland.nl/event/eerste-pinksterdag/
CATEGORIES:Chirstelijke feestdag
END:VEVENT
BEGIN:VEVENT
DTSTART;VALUE=DATE:20170525
DTEND;VALUE=DATE:20170526
DTSTAMP:20260422T032630
CREATED:20161006T124623Z
LAST-MODIFIED:20161006T124623Z
UID:756-1495670400-1495756799@www.gereformeerdekerkennederland.nl
SUMMARY:Hemelvaartsdag
DESCRIPTION:
URL:https://www.gereformeerdekerkennederland.nl/event/hemelvaartsdag/
CATEGORIES:Chirstelijke feestdag
END:VEVENT
BEGIN:VEVENT
DTSTART;VALUE=DATE:20170505
DTEND;VALUE=DATE:20170506
DTSTAMP:20260422T032630
CREATED:20161006T124558Z
LAST-MODIFIED:20161006T124558Z
UID:754-1493942400-1494028799@www.gereformeerdekerkennederland.nl
SUMMARY:Bevrijdingsdag
DESCRIPTION:
URL:https://www.gereformeerdekerkennederland.nl/event/bevrijdingsdag/
CATEGORIES:Nationale feestdag
END:VEVENT
BEGIN:VEVENT
DTSTART;TZID=Europe/Amsterdam:20170504T200000
DTEND;TZID=Europe/Amsterdam:20170504T200500
DTSTAMP:20260422T032630
CREATED:20161006T124910Z
LAST-MODIFIED:20161006T124910Z
UID:766-1493928000-1493928300@www.gereformeerdekerkennederland.nl
SUMMARY:Dodenherdenking
DESCRIPTION:
URL:https://www.gereformeerdekerkennederland.nl/event/dodenherdenking/
CATEGORIES:Nationale feestdag
END:VEVENT
BEGIN:VEVENT
DTSTART;VALUE=DATE:20170427
DTEND;VALUE=DATE:20170428
DTSTAMP:20260422T032630
CREATED:20161006T124515Z
LAST-MODIFIED:20161006T124515Z
UID:752-1493251200-1493337599@www.gereformeerdekerkennederland.nl
SUMMARY:Koningsdag
DESCRIPTION:
URL:https://www.gereformeerdekerkennederland.nl/event/koningsdag/
CATEGORIES:Nationale feestdag
END:VEVENT
BEGIN:VEVENT
DTSTART;VALUE=DATE:20170417
DTEND;VALUE=DATE:20170418
DTSTAMP:20260422T032630
CREATED:20161006T124406Z
LAST-MODIFIED:20161006T124406Z
UID:748-1492387200-1492473599@www.gereformeerdekerkennederland.nl
SUMMARY:Tweede Paasdag
DESCRIPTION:
URL:https://www.gereformeerdekerkennederland.nl/event/tweede-paasdag/
CATEGORIES:Chirstelijke feestdag
END:VEVENT
BEGIN:VEVENT
DTSTART;VALUE=DATE:20170416
DTEND;VALUE=DATE:20170417
DTSTAMP:20260422T032630
CREATED:20161006T124317Z
LAST-MODIFIED:20161006T124340Z
UID:745-1492300800-1492387199@www.gereformeerdekerkennederland.nl
SUMMARY:Eerste Paasdag
DESCRIPTION:
URL:https://www.gereformeerdekerkennederland.nl/event/goede-vrijdag/
CATEGORIES:Chirstelijke feestdag
END:VEVENT
BEGIN:VEVENT
DTSTART;VALUE=DATE:20170414
DTEND;VALUE=DATE:20170415
DTSTAMP:20260422T032630
CREATED:20161006T124439Z
LAST-MODIFIED:20161006T124439Z
UID:750-1492128000-1492214399@www.gereformeerdekerkennederland.nl
SUMMARY:Goede vrijdag
DESCRIPTION:
URL:https://www.gereformeerdekerkennederland.nl/event/goede-vrijdag-2/
CATEGORIES:Chirstelijke feestdag
END:VEVENT
BEGIN:VEVENT
DTSTART;TZID=Europe/Amsterdam:20170325T100000
DTEND;TZID=Europe/Amsterdam:20170325T170000
DTSTAMP:20260422T032630
CREATED:20161217T212831Z
LAST-MODIFIED:20161217T212831Z
UID:855-1490436000-1490461200@www.gereformeerdekerkennederland.nl
SUMMARY:Landelijke Contact Dag
DESCRIPTION:
URL:https://www.gereformeerdekerkennederland.nl/event/landelijke-contact-dag/
END:VEVENT
BEGIN:VEVENT
DTSTART;TZID=Europe/Amsterdam:20170318T100000
DTEND;TZID=Europe/Amsterdam:20170318T170000
DTSTAMP:20260422T032630
CREATED:20161217T212739Z
LAST-MODIFIED:20170225T154323Z
UID:853-1489831200-1489856400@www.gereformeerdekerkennederland.nl
SUMMARY:Generale Synode maart 2017
DESCRIPTION:
URL:https://www.gereformeerdekerkennederland.nl/event/generale-synode-2017/
LOCATION:Kerkgebouw Elim\, Starkenberg 94\, Ede\, Gelderland\, 6718DG\, Nederland
CATEGORIES:Vergadering
END:VEVENT
BEGIN:VEVENT
DTSTART;VALUE=DATE:20170308
DTEND;VALUE=DATE:20170309
DTSTAMP:20260422T032630
CREATED:20161006T125320Z
LAST-MODIFIED:20161006T125320Z
UID:772-1488931200-1489017599@www.gereformeerdekerkennederland.nl
SUMMARY:Biddag voor Gewas en Arbeid
DESCRIPTION:
URL:https://www.gereformeerdekerkennederland.nl/event/biddag-voor-gewas-en-arbeid/
END:VEVENT
BEGIN:VEVENT
DTSTART;VALUE=DATE:20170101
DTEND;VALUE=DATE:20170102
DTSTAMP:20260422T032630
CREATED:20161006T124218Z
LAST-MODIFIED:20161006T124218Z
UID:743-1483228800-1483315199@www.gereformeerdekerkennederland.nl
SUMMARY:Nieuwjaarsdag
DESCRIPTION:
URL:https://www.gereformeerdekerkennederland.nl/event/nieuwjaarsdag/
CATEGORIES:Feestdag
END:VEVENT
BEGIN:VEVENT
DTSTART;VALUE=DATE:20161231
DTEND;VALUE=DATE:20170101
DTSTAMP:20260422T032630
CREATED:20161006T124138Z
LAST-MODIFIED:20161006T124153Z
UID:741-1483142400-1483228799@www.gereformeerdekerkennederland.nl
SUMMARY:Oudjaarsdag
DESCRIPTION:
URL:https://www.gereformeerdekerkennederland.nl/event/oudjaarsdag/
CATEGORIES:Feestdag
END:VEVENT
BEGIN:VEVENT
DTSTART;VALUE=DATE:20161226
DTEND;VALUE=DATE:20161227
DTSTAMP:20260422T032630
CREATED:20161006T123759Z
LAST-MODIFIED:20161006T123901Z
UID:739-1482710400-1482796799@www.gereformeerdekerkennederland.nl
SUMMARY:Tweede kerstdag
DESCRIPTION:
URL:https://www.gereformeerdekerkennederland.nl/event/tweede-kerstdag/
CATEGORIES:Chirstelijke feestdag
END:VEVENT
BEGIN:VEVENT
DTSTART;VALUE=DATE:20161225
DTEND;VALUE=DATE:20161226
DTSTAMP:20260422T032630
CREATED:20161006T123729Z
LAST-MODIFIED:20161006T123920Z
UID:737-1482624000-1482710399@www.gereformeerdekerkennederland.nl
SUMMARY:Eerste kerstdag
DESCRIPTION:
URL:https://www.gereformeerdekerkennederland.nl/event/eerste-kerstdag/
CATEGORIES:Chirstelijke feestdag
END:VEVENT
BEGIN:VEVENT
DTSTART;TZID=Europe/Amsterdam:20161217T100000
DTEND;TZID=Europe/Amsterdam:20161217T150000
DTSTAMP:20260422T032630
CREATED:20161006T084706Z
LAST-MODIFIED:20161006T123925Z
UID:672-1481968800-1481986800@www.gereformeerdekerkennederland.nl
SUMMARY:Voortzetting generale synode
DESCRIPTION:
URL:https://www.gereformeerdekerkennederland.nl/event/voortzetting-generale-synode/
LOCATION:Kerkgebouw Elim\, Starkenberg 94\, Ede\, Gelderland\, 6718DG\, Nederland
CATEGORIES:Vergadering
END:VEVENT
BEGIN:VEVENT
DTSTART;VALUE=DATE:20161102
DTEND;VALUE=DATE:20161103
DTSTAMP:20260422T032630
CREATED:20161006T125218Z
LAST-MODIFIED:20161006T125218Z
UID:768-1478044800-1478131199@www.gereformeerdekerkennederland.nl
SUMMARY:Dankdag voor Gewas en Arbeid
DESCRIPTION:
URL:https://www.gereformeerdekerkennederland.nl/event/dankdag-voor-gewas-en-arbeid/
END:VEVENT
BEGIN:VEVENT
DTSTART;TZID=Europe/Amsterdam:20161001T100000
DTEND;TZID=Europe/Amsterdam:20161001T150000
DTSTAMP:20260422T032630
CREATED:20161006T084616Z
LAST-MODIFIED:20161006T084848Z
UID:668-1475316000-1475334000@www.gereformeerdekerkennederland.nl
SUMMARY:Generale synode
DESCRIPTION:
URL:https://www.gereformeerdekerkennederland.nl/event/generale-synode/
LOCATION:Kerkgebouw Elim\, Starkenberg 94\, Ede\, Gelderland\, 6718DG\, Nederland
END:VEVENT
BEGIN:VEVENT
DTSTART;TZID=Europe/Amsterdam:20160312T100000
DTEND;TZID=Europe/Amsterdam:20160312T150000
DTSTAMP:20260422T032630
CREATED:20161006T085015Z
LAST-MODIFIED:20161006T123930Z
UID:674-1457776800-1457794800@www.gereformeerdekerkennederland.nl
SUMMARY:Generale synode
DESCRIPTION:
URL:https://www.gereformeerdekerkennederland.nl/event/generale-synode-2/
LOCATION:Kerkgebouw Elim\, Starkenberg 94\, Ede\, Gelderland\, 6718DG\, Nederland
CATEGORIES:Vergadering
END:VEVENT
BEGIN:VEVENT
DTSTART;TZID=Europe/Amsterdam:20151101T100000
DTEND;TZID=Europe/Amsterdam:20151101T120000
DTSTAMP:20260422T032630
CREATED:20161006T092444Z
LAST-MODIFIED:20161006T092444Z
UID:677-1446372000-1446379200@www.gereformeerdekerkennederland.nl
SUMMARY:Bevestiging ds J.R. Visser
DESCRIPTION:
URL:https://www.gereformeerdekerkennederland.nl/event/bevestiging-ds-j-r-visser/
LOCATION:De Vijverhoeve\, Noordelijke Ruitenweg 1\, Zwolle\, Nederland
END:VEVENT
BEGIN:VEVENT
DTSTART;TZID=Europe/Amsterdam:20150111T160000
DTEND;TZID=Europe/Amsterdam:20150111T180000
DTSTAMP:20260422T032630
CREATED:20161006T092531Z
LAST-MODIFIED:20161006T092531Z
UID:681-1420992000-1420999200@www.gereformeerdekerkennederland.nl
SUMMARY:Intrede ds J.R. Visser
DESCRIPTION:
URL:https://www.gereformeerdekerkennederland.nl/event/intrede-ds-j-r-visser/
LOCATION:De Vijverhoeve\, Noordelijke Ruitenweg 1\, Zwolle\, Nederland
END:VEVENT
END:VCALENDAR