BEGIN:VCALENDAR
VERSION:2.0
PRODID:-//Gereformeerde Kerken Nederland - ECPv6.1.3//NONSGML v1.0//EN
CALSCALE:GREGORIAN
METHOD:PUBLISH
X-WR-CALNAME:Gereformeerde Kerken Nederland
X-ORIGINAL-URL:https://www.gereformeerdekerkennederland.nl
X-WR-CALDESC:Evenementen voor Gereformeerde Kerken Nederland
REFRESH-INTERVAL;VALUE=DURATION:PT1H
X-Robots-Tag:noindex
X-PUBLISHED-TTL:PT1H
BEGIN:VTIMEZONE
TZID:Europe/Amsterdam
BEGIN:DAYLIGHT
TZOFFSETFROM:+0100
TZOFFSETTO:+0200
TZNAME:CEST
DTSTART:20230326T010000
END:DAYLIGHT
BEGIN:STANDARD
TZOFFSETFROM:+0200
TZOFFSETTO:+0100
TZNAME:CET
DTSTART:20231029T010000
END:STANDARD
END:VTIMEZONE
BEGIN:VEVENT
DTSTART;VALUE=DATE:20231104
DTEND;VALUE=DATE:20231105
DTSTAMP:20260423T181406
CREATED:20220715T053146Z
LAST-MODIFIED:20220715T053146Z
UID:155260-1699056000-1699056000@www.gereformeerdekerkennederland.nl
SUMMARY:Generale Synode GKN
DESCRIPTION:
URL:https://www.gereformeerdekerkennederland.nl/event/generale-synode-gkn/
LOCATION:Gelderland
END:VEVENT
BEGIN:VEVENT
DTSTART;VALUE=DATE:20231104
DTEND;VALUE=DATE:20231105
DTSTAMP:20260423T181406
CREATED:20230526T124350Z
LAST-MODIFIED:20231030T110541Z
UID:155313-1699056000-1699142399@www.gereformeerdekerkennederland.nl
SUMMARY:Generale Synode
DESCRIPTION:
URL:https://www.gereformeerdekerkennederland.nl/event/generale-synode-4/
LOCATION:Bethelkerk Harderwijk\, De Wittenhagen 28\, Harderwijk\, Gelderland\, 3843GJ\, Nederland
END:VEVENT
END:VCALENDAR